BEGIN:VCALENDAR
VERSION:2.0
PRODID:-//Kisses From Friends - ECPv6.15.20//NONSGML v1.0//EN
CALSCALE:GREGORIAN
METHOD:PUBLISH
X-ORIGINAL-URL:https://kissesfromfriends.org
X-WR-CALDESC:Events for Kisses From Friends
REFRESH-INTERVAL;VALUE=DURATION:PT1H
X-Robots-Tag:noindex
X-PUBLISHED-TTL:PT1H
BEGIN:VTIMEZONE
TZID:UTC
BEGIN:STANDARD
TZOFFSETFROM:+0000
TZOFFSETTO:+0000
TZNAME:UTC
DTSTART:20240101T000000
END:STANDARD
END:VTIMEZONE
BEGIN:VEVENT
DTSTART;TZID=UTC:20250101T110000
DTEND;TZID=UTC:20250101T133000
DTSTAMP:20260426T021319
CREATED:20241226T180645Z
LAST-MODIFIED:20241226T180731Z
UID:9704-1735729200-1735738200@kissesfromfriends.org
SUMMARY:3rd Annual Kisses From Friends "Dip For Dave" Polar Plunge
DESCRIPTION:We would like to invite all to join Kisses From Keegan and Friends at The Boat House Bar & Grill on January 1st for the 3rd Annual “Dip for Dave” Polar Plunge. Whether you’d like to stay warm and watch swimmers plunge into Lake Geneva’s icy cold waters or make the daring plunge yourself\, all are welcome to kick off the New Year to help support a great cause! The Boat House Bar & Grill will be open for food and drinks\, and the Kisses organization will hold a silent auction with locally donated gifts! We hope you’ll join us to kick off 2023 with cold plunge or a cold drink!\n\n11:00 Doors/Silent Auction Opens \n11:50 Robe Winner Announced \n12:00 Polar Plunge “Dip for Dave” \n1:15 Commemoration Toast \n1:30 Silent Auction Ends
URL:https://kissesfromfriends.org/event/3rd-annual-kisses-from-friends-dip-for-dave-polar-plunge/
LOCATION:The Boat House Bar & Grill\, N2062 S Lake Shore Dr\, Lake Geneva\, WI\, 53147\, United States
ATTACH;FMTTYPE=image/png:https://kissesfromfriends.org/wp-content/uploads/2024/12/KFK-DFD1.png
END:VEVENT
BEGIN:VEVENT
DTSTART;TZID=UTC:20250118T120000
DTEND;TZID=UTC:20250118T160000
DTSTAMP:20260426T021319
CREATED:20241206T235121Z
LAST-MODIFIED:20241212T005405Z
UID:9686-1737201600-1737216000@kissesfromfriends.org
SUMMARY:Kisses from Friends 2nd Annual Winter Bash
DESCRIPTION:The weather hasn’t been our friend for the past couple of years—so we are hosting our 2nd Annual Non-Fishing Fishing Derby! Join us for a fantastic afternoon of fun\, community\, and exciting activities to support a great cause!\nWhen: Saturday\, Jan 18 from Noon – 4 PM Where: Magpie’s Pen & Den What: A fun afternoon featuring:\n•Silent Auction\n•Meat Raffle\n•50/50 Raffle\n•And much more!\nMark your calendars and bring your friends for an unforgettable day! Stay-tuned for additional details and sponsorship opportunities!
URL:https://kissesfromfriends.org/event/kisses-from-friends-2nd-annual-non-fishing-fishing-derby/
LOCATION:Magpie’s Den and Pen\, 642 W Main St\, Lake Geneva\, WI\, 53147\, United States
END:VEVENT
BEGIN:VEVENT
DTSTART;TZID=UTC:20260101T110000
DTEND;TZID=UTC:20260101T133000
DTSTAMP:20260426T021319
CREATED:20251230T225443Z
LAST-MODIFIED:20251230T225657Z
UID:10015-1767265200-1767274200@kissesfromfriends.org
SUMMARY:Kisses From Friends - "Dip For Dave" Polar Plunge
DESCRIPTION:Please join us on New Year’s Day for the Annual Dip for Dave\n11:00 Doors/Silent Auction Open\n11:50 Robe Winner Announced\n12:00 Polar Plunge “Dip for Dave”\n1:15 Commemoration Toast\n1:30 Silent Auction End\nAll proceeds go to Kisses from Friends
URL:https://kissesfromfriends.org/event/kisses-from-friends-dip-for-dave-polar-plunge/
LOCATION:The Boat House Bar & Grill\, N2062 S Lake Shore Dr\, Lake Geneva\, WI\, 53147\, United States
ATTACH;FMTTYPE=image/png:https://kissesfromfriends.org/wp-content/uploads/2025/12/1-Facebook-Post.png
END:VEVENT
BEGIN:VEVENT
DTSTART;TZID=UTC:20260117T130000
DTEND;TZID=UTC:20260117T170000
DTSTAMP:20260426T021319
CREATED:20251215T172100Z
LAST-MODIFIED:20251215T172100Z
UID:10003-1768654800-1768669200@kissesfromfriends.org
SUMMARY:Kisses From Friends - Winter Bash
DESCRIPTION:Kisses From Friends Winter Bash \nJoin us for a fantastic afternoon of fun\, community\, and exciting activities to support a great cause! \nWhen: Saturday\, Jan 17 from 1 PM – 5 PM \nWhere: Magpie’s Den & Pen \nWhat: A fun afternoon featuring:\n•	Silent Auction\n•	Meat Raffle\n•	50/50 Raffle\n•	And much more!\nMark your calendars and bring your friends for an unforgettable day!  \n✨ Sponsorships are still available! ✨ If you’d like to get involved and make an impact\, now’s the perfect time to become a sponsor. \n👉 https://give-usa.keela.co/winterbashsponsor
URL:https://kissesfromfriends.org/event/kisses-from-friends-winter-bash/
LOCATION:Magpie’s Den and Pen\, 642 W Main St\, Lake Geneva\, WI\, 53147\, United States
ATTACH;FMTTYPE=image/png:https://kissesfromfriends.org/wp-content/uploads/2023/11/Screenshot-2023-11-14-at-9.38.41 AM.png
END:VEVENT
BEGIN:VEVENT
DTSTART;TZID=UTC:20260516T080000
DTEND;TZID=UTC:20260516T140000
DTSTAMP:20260426T021319
CREATED:20250208T174158Z
LAST-MODIFIED:20260319T190133Z
UID:9734-1778918400-1778940000@kissesfromfriends.org
SUMMARY:14th Annual Super Hero Shuffle 5K/10K Run/Walk
DESCRIPTION:Save the date for the 14th Annual Super Hero Shuffle 5K/10K Run/Walk!\nVoted Most Organized Race in 2019! \nJoin us for a fun and inspiring event where both runners and walkers can participate in their running gear or dress up as their favorite superhero to help support families affected by childhood cancer. Enjoy a scenic run or walk through the beautiful Big Foot Beach State Park trail with family\, friends\, or your favorite superhero! Strollers are welcome\, as the route follows the park’s hiking trails. \nRun Registration:  \nhttps://runsignup.com/annualsuperheroshuffle5k10krunwalk \nBecome a Sponsor:\nhttps://forms.gle/eXy2bQmA3F9a4zaCA \nEvent Details: \nDate: Saturday\, May 16\, 2026 (RAIN OR SHINE)\nLocation: Big Foot Beach State Park\, 1550 S. Lakeshore Drive\, Lake Geneva\, WI\nRace Start: 10:00 AM\nRain or Shine!\nProceeds benefit the Kisses from Friends Pediatric Cancer Foundation. \nPlan for a fun-filled family event- RAFFLES\, FOOD\, MUSIC\, KIDS ACTIVITIES\, and much more—balloon ceremony before the race to honor all the warriors.
URL:https://kissesfromfriends.org/event/13th-annual-super-hero-shuffle-5k-10k-run-walk/
LOCATION:Bigfoot Beach State Park\, 1550 S Lake Shore Dr\, Lake Geneva\, WI\, 53147\, United States
ATTACH;FMTTYPE=image/jpeg:https://kissesfromfriends.org/wp-content/uploads/2024/02/425507097_377133594960783_7072174084829030848_n.jpg
END:VEVENT
BEGIN:VEVENT
DTSTART;TZID=UTC:20260910T110000
DTEND;TZID=UTC:20260910T170000
DTSTAMP:20260426T021319
CREATED:20250208T174744Z
LAST-MODIFIED:20251110T195640Z
UID:9736-1789038000-1789059600@kissesfromfriends.org
SUMMARY:11th Annual Kisses From Friends Golf Outing
DESCRIPTION:Hawk’s View Golf Club\n\nEntry fee includes: \n18 holes of championship golf on Como Crossing \nCart equipped with GPS system \nLunch during registration & buffet style dinner after golf \nPlayer gift from Kisses From Friends \n  \nThis was a sold-out event last year\, register now to reserve your spot! \nRegister: \nSponsorship:
URL:https://kissesfromfriends.org/event/10th-annual-kisses-from-friends-golf-outing/
LOCATION:Hawk’s View Golf Club\, 7377 Krueger Rd\, Lake Geneva\, WI\, 53147\, United States
ATTACH;FMTTYPE=image/jpeg:https://kissesfromfriends.org/wp-content/uploads/2024/03/P1020922-2.jpg
END:VEVENT
END:VCALENDAR