BEGIN:VCALENDAR
VERSION:2.0
PRODID:-//Kisses From Friends - ECPv6.15.20//NONSGML v1.0//EN
CALSCALE:GREGORIAN
METHOD:PUBLISH
X-WR-CALNAME:Kisses From Friends
X-ORIGINAL-URL:https://kissesfromfriends.org
X-WR-CALDESC:Events for Kisses From Friends
REFRESH-INTERVAL;VALUE=DURATION:PT1H
X-Robots-Tag:noindex
X-PUBLISHED-TTL:PT1H
BEGIN:VTIMEZONE
TZID:UTC
BEGIN:STANDARD
TZOFFSETFROM:+0000
TZOFFSETTO:+0000
TZNAME:UTC
DTSTART:20220101T000000
END:STANDARD
END:VTIMEZONE
BEGIN:VEVENT
DTSTART;TZID=UTC:20260117T130000
DTEND;TZID=UTC:20260117T170000
DTSTAMP:20260425T141438
CREATED:20251215T172100Z
LAST-MODIFIED:20251215T172100Z
UID:10003-1768654800-1768669200@kissesfromfriends.org
SUMMARY:Kisses From Friends - Winter Bash
DESCRIPTION:Kisses From Friends Winter Bash \nJoin us for a fantastic afternoon of fun\, community\, and exciting activities to support a great cause! \nWhen: Saturday\, Jan 17 from 1 PM – 5 PM \nWhere: Magpie’s Den & Pen \nWhat: A fun afternoon featuring:\n•	Silent Auction\n•	Meat Raffle\n•	50/50 Raffle\n•	And much more!\nMark your calendars and bring your friends for an unforgettable day!  \n✨ Sponsorships are still available! ✨ If you’d like to get involved and make an impact\, now’s the perfect time to become a sponsor. \n👉 https://give-usa.keela.co/winterbashsponsor
URL:https://kissesfromfriends.org/event/kisses-from-friends-winter-bash/
LOCATION:Magpie’s Den and Pen\, 642 W Main St\, Lake Geneva\, WI\, 53147\, United States
ATTACH;FMTTYPE=image/png:https://kissesfromfriends.org/wp-content/uploads/2023/11/Screenshot-2023-11-14-at-9.38.41 AM.png
END:VEVENT
BEGIN:VEVENT
DTSTART;TZID=UTC:20260101T110000
DTEND;TZID=UTC:20260101T133000
DTSTAMP:20260425T141438
CREATED:20251230T225443Z
LAST-MODIFIED:20251230T225657Z
UID:10015-1767265200-1767274200@kissesfromfriends.org
SUMMARY:Kisses From Friends - "Dip For Dave" Polar Plunge
DESCRIPTION:Please join us on New Year’s Day for the Annual Dip for Dave\n11:00 Doors/Silent Auction Open\n11:50 Robe Winner Announced\n12:00 Polar Plunge “Dip for Dave”\n1:15 Commemoration Toast\n1:30 Silent Auction End\nAll proceeds go to Kisses from Friends
URL:https://kissesfromfriends.org/event/kisses-from-friends-dip-for-dave-polar-plunge/
LOCATION:The Boat House Bar & Grill\, N2062 S Lake Shore Dr\, Lake Geneva\, WI\, 53147\, United States
ATTACH;FMTTYPE=image/png:https://kissesfromfriends.org/wp-content/uploads/2025/12/1-Facebook-Post.png
END:VEVENT
BEGIN:VEVENT
DTSTART;TZID=UTC:20250118T120000
DTEND;TZID=UTC:20250118T160000
DTSTAMP:20260425T141438
CREATED:20241206T235121Z
LAST-MODIFIED:20241212T005405Z
UID:9686-1737201600-1737216000@kissesfromfriends.org
SUMMARY:Kisses from Friends 2nd Annual Winter Bash
DESCRIPTION:The weather hasn’t been our friend for the past couple of years—so we are hosting our 2nd Annual Non-Fishing Fishing Derby! Join us for a fantastic afternoon of fun\, community\, and exciting activities to support a great cause!\nWhen: Saturday\, Jan 18 from Noon – 4 PM Where: Magpie’s Pen & Den What: A fun afternoon featuring:\n•Silent Auction\n•Meat Raffle\n•50/50 Raffle\n•And much more!\nMark your calendars and bring your friends for an unforgettable day! Stay-tuned for additional details and sponsorship opportunities!
URL:https://kissesfromfriends.org/event/kisses-from-friends-2nd-annual-non-fishing-fishing-derby/
LOCATION:Magpie’s Den and Pen\, 642 W Main St\, Lake Geneva\, WI\, 53147\, United States
END:VEVENT
BEGIN:VEVENT
DTSTART;TZID=UTC:20250101T110000
DTEND;TZID=UTC:20250101T133000
DTSTAMP:20260425T141438
CREATED:20241226T180645Z
LAST-MODIFIED:20241226T180731Z
UID:9704-1735729200-1735738200@kissesfromfriends.org
SUMMARY:3rd Annual Kisses From Friends "Dip For Dave" Polar Plunge
DESCRIPTION:We would like to invite all to join Kisses From Keegan and Friends at The Boat House Bar & Grill on January 1st for the 3rd Annual “Dip for Dave” Polar Plunge. Whether you’d like to stay warm and watch swimmers plunge into Lake Geneva’s icy cold waters or make the daring plunge yourself\, all are welcome to kick off the New Year to help support a great cause! The Boat House Bar & Grill will be open for food and drinks\, and the Kisses organization will hold a silent auction with locally donated gifts! We hope you’ll join us to kick off 2023 with cold plunge or a cold drink!\n\n11:00 Doors/Silent Auction Opens \n11:50 Robe Winner Announced \n12:00 Polar Plunge “Dip for Dave” \n1:15 Commemoration Toast \n1:30 Silent Auction Ends
URL:https://kissesfromfriends.org/event/3rd-annual-kisses-from-friends-dip-for-dave-polar-plunge/
LOCATION:The Boat House Bar & Grill\, N2062 S Lake Shore Dr\, Lake Geneva\, WI\, 53147\, United States
ATTACH;FMTTYPE=image/png:https://kissesfromfriends.org/wp-content/uploads/2024/12/KFK-DFD1.png
END:VEVENT
BEGIN:VEVENT
DTSTART;TZID=UTC:20240905T120000
DTEND;TZID=UTC:20240905T190000
DTSTAMP:20260425T141438
CREATED:20240312T231545Z
LAST-MODIFIED:20240904T203957Z
UID:9213-1725537600-1725562800@kissesfromfriends.org
SUMMARY:9th Annual Golf Outing
DESCRIPTION:
URL:https://kissesfromfriends.org/event/kisses-from-keegan-9th-annual-golf-outing/
LOCATION:Hawk’s View Golf Club\, 7377 Krueger Rd\, Lake Geneva\, WI\, 53147\, United States
ATTACH;FMTTYPE=image/jpeg:https://kissesfromfriends.org/wp-content/uploads/2024/03/P1020922-2.jpg
END:VEVENT
BEGIN:VEVENT
DTSTART;TZID=UTC:20240518T100000
DTEND;TZID=UTC:20240518T133000
DTSTAMP:20260425T141438
CREATED:20240206T171636Z
LAST-MODIFIED:20240503T134702Z
UID:9142-1716026400-1716039000@kissesfromfriends.org
SUMMARY:12th Annual Super Hero Shuffle 5K/10K
DESCRIPTION:Register: https://superheroshuffle5krun.redpodium.com/super-hero-shuffle-5k10k-runwalk-2024?fbclid=IwAR33n7MI0CX-endKUVKZr-G3o-wkOayhblbCIvo9TaGjfENYpf6JKHAFDIQ \nWelcome to The 12th Annual Super Hero Shuffle 5k/10k run/walk! Voted most Organized race in 2019! \nThis event allows runners and walkers  alike to either wear their running gear or come dressed as your favorite Super hero and support families affected by childhood cancer! Enjoy a beautiful run/walk through Big Foot Beach State Park with family\, friends or a super hero. Feel free to bring strollers as the route follows the state park hiking trails. Proceeds to benefit Kisses from Keegan and Friends Pediatric Cancer Foundation. \nSuper Hero Shuffle will be taking place on Saturday May 18\,2024. Located at Big Foot Beach State Park 1550 S. Lakeshore Drive in beautiful Lake Geneva\, Wisconsin with race starting at 10 am.   \n Plan for a fun-filled family event- RAFFLES\, FOOD\, MUSIC\, KIDS ACTIVITIES\, and much more—balloon ceremony before the race to honor all the warriors.  \n\n\n\n\nSUPER HERO ACTION ITEMS : \n\n\n\n\n** 1 mi Fun Run ( ages 6-13 ) $10 sign up the day of the race  \n** 100-yard dash ( no charge for kids up to age 7) \n** Walk-ups are welcome day of the event  \n** Strollers are welcome on the trail  \n** Cash\, Check\, and Credit card will be accepted  \n** Pre-packet pickup Friday\, May 17th\, at Big Foot Beach 6-8 pm ( group pick up please contact dhuber@kissesfromkeegan.org prior to this date) \n** Race day packet pick up Saturday\, May 18th from 8-10 am  \n** REGISTER BY APRIL 25TH TO GUARANTEE A TSHIRT-WE MAY HAVE EXTRA SHIRTS THE DAY OF THE RACE\, BUT THEY WILL BE FIRST COME\, FIRST SERVE !!! REGISTER EARLY !!! \n** Questions about the event or interested in volunteering-please email us at  dhuber@kissesfromkeegan.org or bwisdom@kissesfromkeegan.org  \n** Follow our FB pagehttps://www.facebook.com/profile.php?id=100079924375634 for up to date information  \n** Trackside Timing will provide race results \n**Awards Top 3 Men for 5k and Top 3 Men for 10k as well as Top 3 Women for 5k and Top 3 Women for 10k \n** Kisses From Keegan and Friends swag will be available for purchase \n** Sponsorship opportunities contact pbraden@kissesfromkeegan.org \n\n\nRegister: \nhttps://superheroshuffle5krun.redpodium.com/super-hero-shuffle-5k10k-runwalk-2024?fbclid=IwAR33n7MI0CX-endKUVKZr-G3o-wkOayhblbCIvo9TaGjfENYpf6JKHAFDIQ
URL:https://kissesfromfriends.org/event/12th-annual-super-hero-shuffle-5k-10k/
LOCATION:Bigfoot Beach State Park\, 1550 S Lake Shore Dr\, Lake Geneva\, WI\, 53147\, United States
ATTACH;FMTTYPE=image/jpeg:https://kissesfromfriends.org/wp-content/uploads/2024/02/425507097_377133594960783_7072174084829030848_n.jpg
END:VEVENT
BEGIN:VEVENT
DTSTART;TZID=UTC:20240120T070000
DTEND;TZID=UTC:20240120T130000
DTSTAMP:20260425T141438
CREATED:20231114T154226Z
LAST-MODIFIED:20231114T154507Z
UID:9057-1705734000-1705755600@kissesfromfriends.org
SUMMARY:4th Annual Fishing Derby
DESCRIPTION:Join us for the 4th Annual Kisses From Keegan & Friends Fishing Derby! (ONLY 100 REGISTRATIONS)\nSaturday\, January 20\, 2024\nRegistration is open at 6:00am\nDerby is from 7:00am – 1:00pm\nRegistration includes:\n-A fun day of fishing—while supporting a great cause\n-Hourly prizes for fish by category: Biggest bass\, pike\, and blue gill measured by length\n-End of the day prizes for the 3 largest fish by category\n-Hot chocolate and chili bar included with registration\n-Silent Auction and 50/50 Raffle\nRules:\n• Anglers 16 and older must have a valid Wisconsin Fishing License\n• All Anglers must obey the Wisconsin Department of Natural Resources fishing regulations\n• CATCH AND RELEASE: All fish will be measured\, photographed\, documented\, and released\n• Largest fish will be determined by length (rounding up to the nearest 1/8”)\n\nRegister: https://birdease.com/kissesfishingderby?fbclid=IwAR2o2OODHnr5ROTdxvVXlklnb-CxIZrj7-M-WDVq7oU-YYkSVjLxaNCITA0\n\n***PERSONAL ATVs ARE NOT ALLOWED*** We will have an ATV to help you bring gear to the ice if needed!
URL:https://kissesfromfriends.org/event/4th-annual-fishing-derby/
LOCATION:WI
ATTACH;FMTTYPE=image/png:https://kissesfromfriends.org/wp-content/uploads/2023/11/Screenshot-2023-11-14-at-9.38.41 AM.png
END:VEVENT
BEGIN:VEVENT
DTSTART;TZID=UTC:20231007T153000
DTEND;TZID=UTC:20231007T170000
DTSTAMP:20260425T141438
CREATED:20230923T175006Z
LAST-MODIFIED:20230923T175130Z
UID:9007-1696692600-1696698000@kissesfromfriends.org
SUMMARY:8th Annual Duck Race
DESCRIPTION:The Duck Race Is Back!\nTogether with Kisses From Keegan and Friends and sponsored by Lake City Social in Lake Geneva\, we’ll be running our Annual Duck Race a the Spillway of the Samuel Donian Wetland Preserve.\nSo how does this work?\nPurchase tickets ($20 each or 6 for $100) and get a confirmation on what duck numbers you get and on October 7th at 3:30 pm\, ducks will be released into the Lake Geneva spillway and the three fastest ducks will be announced and if it’s your duck…you win cash!!! It’s as easy as that!!\nYou do NOT need to be present at the race to win.\n1st Prize: $1500\n2nd Prize: $1000\n3rd Prize: $500\nInterested in purchasing tickets?\nContact Pam at pbraden@kissesfromkeegan.org or Helen at hxiong@kissesfromkeegan.org\nAnd as always\, thank you for supporting our foundation. We cannot do what we do without your support.
URL:https://kissesfromfriends.org/event/8th-annual-duck-race/
LOCATION:WI
ATTACH;FMTTYPE=image/png:https://kissesfromfriends.org/wp-content/uploads/2023/09/Screen-Shot-2023-09-23-at-12.48.21-PM.png
END:VEVENT
BEGIN:VEVENT
DTSTART;TZID=UTC:20230915T073000
DTEND;TZID=UTC:20230915T133000
DTSTAMP:20260425T141438
CREATED:20230404T020154Z
LAST-MODIFIED:20230908T144614Z
UID:8354-1694763000-1694784600@kissesfromfriends.org
SUMMARY:8th Annual Charity Golf Outing
DESCRIPTION:Register: https://birdease.com/24887/register \nEntry fee includes: \n18 holes of championship golf at The Highlands \nCart equipped with GPS system \nBreakfast sandwiches before at registration & sit down dinner after golf \nPlayer gift from Kisses From Keegan & Friends
URL:https://kissesfromfriends.org/event/8th-annual-charity-golf-outing/
LOCATION:WI
ATTACH;FMTTYPE=image/jpeg:https://kissesfromfriends.org/wp-content/uploads/2023/04/359841312_667344062087795_874447216981479719_n.jpeg
END:VEVENT
BEGIN:VEVENT
DTSTART;TZID=UTC:20230520T100000
DTEND;TZID=UTC:20230520T170000
DTSTAMP:20260425T141438
CREATED:20230403T225143Z
LAST-MODIFIED:20230403T225143Z
UID:8338-1684576800-1684602000@kissesfromfriends.org
SUMMARY:Super Hero Shuffle 5k/10k Run/Walk 2023
DESCRIPTION:Welcome to The 11th Annual Super Hero Shuffle 5k/10k run/walk! Voted most Organized race in 2019!  This event allows runners and walkers alike to wear their running gear or come dressed as your favorite Superhero and support families affected by childhood cancer! All proceeds to benefit Kisses from Keegan and Friends Pediatric Cancer Foundation.
URL:https://kissesfromfriends.org/event/super-hero-shuffle-5k-10k-run-walk-2023/
LOCATION:Mars Resort\, W4098 South Shore Drive\, Lake Geneva\, 53147\, United States
ATTACH;FMTTYPE=image/png:https://kissesfromfriends.org/wp-content/uploads/2023/04/Screen-Shot-2023-04-03-at-5.50.58-PM.png
END:VEVENT
END:VCALENDAR